BEGIN:VCALENDAR
VERSION:2.0
PRODID:-//BEAF - ECPv6.15.17.1//NONSGML v1.0//EN
CALSCALE:GREGORIAN
METHOD:PUBLISH
X-ORIGINAL-URL:https://gotbeaf.co.uk
X-WR-CALDESC:Events for BEAF
REFRESH-INTERVAL;VALUE=DURATION:PT1H
X-Robots-Tag:noindex
X-PUBLISHED-TTL:PT1H
BEGIN:VTIMEZONE
TZID:Europe/London
BEGIN:DAYLIGHT
TZOFFSETFROM:+0000
TZOFFSETTO:+0100
TZNAME:BST
DTSTART:20250330T010000
END:DAYLIGHT
BEGIN:STANDARD
TZOFFSETFROM:+0100
TZOFFSETTO:+0000
TZNAME:GMT
DTSTART:20251026T010000
END:STANDARD
BEGIN:DAYLIGHT
TZOFFSETFROM:+0000
TZOFFSETTO:+0100
TZNAME:BST
DTSTART:20260329T010000
END:DAYLIGHT
BEGIN:STANDARD
TZOFFSETFROM:+0100
TZOFFSETTO:+0000
TZNAME:GMT
DTSTART:20261025T010000
END:STANDARD
BEGIN:DAYLIGHT
TZOFFSETFROM:+0000
TZOFFSETTO:+0100
TZNAME:BST
DTSTART:20270328T010000
END:DAYLIGHT
BEGIN:STANDARD
TZOFFSETFROM:+0100
TZOFFSETTO:+0000
TZNAME:GMT
DTSTART:20271031T010000
END:STANDARD
END:VTIMEZONE
BEGIN:VEVENT
DTSTART;TZID=Europe/London:20260413T110000
DTEND;TZID=Europe/London:20260413T123000
DTSTAMP:20260420T070006
CREATED:20230204T153812Z
LAST-MODIFIED:20260326T104442Z
UID:10002662-1776078000-1776083400@gotbeaf.co.uk
SUMMARY:Creative Writing Workshops - Mondays
DESCRIPTION:The Outsiders Project Creative Writing Workshops – Mondays\nWe run weekly creative writing workshops throughout the year with marginalised communities in Boscombe. They help to develop skills\, confidence and self-belief. \nAll weekly workshops are run by trained outsider artists and are free to attend for people that meet our criteria of people that have been sidelined from society. These workshops are free for people that have been sidelined from society and whose voices have not been heard. The project is open to any person over 18 who previously was or is currently experiencing challenges in any of the following areas: physical limitations; addiction; low income; domestic or sexual abuse; homeless/vulnerably housed; leaver of care; leaver of prison; institutional abuse; refugees/displaced people and those seeking asylum; long term users of mental health services. \nOur Monday workshops run throughout the year during term times 11am-12.30pm at TOSH. We also run a creative writing workshop on Tuesdays 6-8pm and a LGBT+ creative writing group on Wednesdays 5-7pm.  \nFor more information and to register your interest in attending please contact Caroline at caroline.bjohnson@recreatedorset.co.uk \n 
URL:https://gotbeaf.co.uk/event/creative-writing-workshops-mondays/2026-04-13/
LOCATION:The Old School House\, Gladstone Mews Gladstone Rd\, Bournemouth\, BH7 6BG\, United Kingdom
CATEGORIES:Workshops
ATTACH;FMTTYPE=image/jpeg:https://gotbeaf.co.uk/wp-content/uploads/2026/02/DSC4031-small.jpg
GEO:50.7287077;-1.8373383
X-APPLE-STRUCTURED-LOCATION;VALUE=URI;X-ADDRESS=The Old School House Gladstone Mews Gladstone Rd Bournemouth BH7 6BG United Kingdom;X-APPLE-RADIUS=500;X-TITLE=Gladstone Mews Gladstone Rd:geo:-1.8373383,50.7287077
END:VEVENT
END:VCALENDAR