BEGIN:VCALENDAR
VERSION:2.0
PRODID:-//BEAF - ECPv6.15.17.1//NONSGML v1.0//EN
CALSCALE:GREGORIAN
METHOD:PUBLISH
X-WR-CALNAME:BEAF
X-ORIGINAL-URL:https://gotbeaf.co.uk
X-WR-CALDESC:Events for BEAF
REFRESH-INTERVAL;VALUE=DURATION:PT1H
X-Robots-Tag:noindex
X-PUBLISHED-TTL:PT1H
BEGIN:VTIMEZONE
TZID:Europe/London
BEGIN:DAYLIGHT
TZOFFSETFROM:+0000
TZOFFSETTO:+0100
TZNAME:BST
DTSTART:20250330T010000
END:DAYLIGHT
BEGIN:STANDARD
TZOFFSETFROM:+0100
TZOFFSETTO:+0000
TZNAME:GMT
DTSTART:20251026T010000
END:STANDARD
BEGIN:DAYLIGHT
TZOFFSETFROM:+0000
TZOFFSETTO:+0100
TZNAME:BST
DTSTART:20260329T010000
END:DAYLIGHT
BEGIN:STANDARD
TZOFFSETFROM:+0100
TZOFFSETTO:+0000
TZNAME:GMT
DTSTART:20261025T010000
END:STANDARD
BEGIN:DAYLIGHT
TZOFFSETFROM:+0000
TZOFFSETTO:+0100
TZNAME:BST
DTSTART:20270328T010000
END:DAYLIGHT
BEGIN:STANDARD
TZOFFSETFROM:+0100
TZOFFSETTO:+0000
TZNAME:GMT
DTSTART:20271031T010000
END:STANDARD
END:VTIMEZONE
BEGIN:VEVENT
DTSTART;TZID=Europe/London:20260415T170000
DTEND;TZID=Europe/London:20260415T190000
DTSTAMP:20260420T065809
CREATED:20260323T162054Z
LAST-MODIFIED:20260326T104617Z
UID:10002710-1776272400-1776279600@gotbeaf.co.uk
SUMMARY:LGBT+ Creative Writing Workshops - Wednesdays
DESCRIPTION:We run weekly creative writing workshops throughout the year with marginalised communities in Boscombe. They help to develop skills\, confidence and self-belief. \nAll weekly workshops are run by trained outsider artists and are free to attend for people that meet our criteria of people that have been sidelined from society. \nThese workshops are free for people that have been sidelined from society and whose voices have not been heard. The project is open to any person over 18 who previously was or is currently experiencing challenges in any of the following areas: physical limitations; addiction; low income; domestic or sexual abuse; homeless/vulnerably housed; leaver of care; leaver of prison; institutional abuse; refugees/displaced people and those seeking asylum; long term users of mental health services. \nFor more information and to register your interest in attending please contact Caroline at community@gotbeaf.co.uk
URL:https://gotbeaf.co.uk/event/lgbt-creative-writing-workshops-wednesdays/2026-04-15/
LOCATION:The Old School House\, Gladstone Mews Gladstone Rd\, Bournemouth\, BH7 6BG\, United Kingdom
CATEGORIES:Workshops
ATTACH;FMTTYPE=image/jpeg:https://gotbeaf.co.uk/wp-content/uploads/2026/03/DSC3314-scaled.jpg
GEO:50.7287077;-1.8373383
X-APPLE-STRUCTURED-LOCATION;VALUE=URI;X-ADDRESS=The Old School House Gladstone Mews Gladstone Rd Bournemouth BH7 6BG United Kingdom;X-APPLE-RADIUS=500;X-TITLE=Gladstone Mews Gladstone Rd:geo:-1.8373383,50.7287077
END:VEVENT
END:VCALENDAR