BEGIN:VCALENDAR
VERSION:2.0
PRODID:-//BEAF - ECPv6.15.17.1//NONSGML v1.0//EN
CALSCALE:GREGORIAN
METHOD:PUBLISH
X-WR-CALNAME:BEAF
X-ORIGINAL-URL:https://gotbeaf.co.uk
X-WR-CALDESC:Events for BEAF
REFRESH-INTERVAL;VALUE=DURATION:PT1H
X-Robots-Tag:noindex
X-PUBLISHED-TTL:PT1H
BEGIN:VTIMEZONE
TZID:Europe/London
BEGIN:DAYLIGHT
TZOFFSETFROM:+0000
TZOFFSETTO:+0100
TZNAME:BST
DTSTART:20250330T010000
END:DAYLIGHT
BEGIN:STANDARD
TZOFFSETFROM:+0100
TZOFFSETTO:+0000
TZNAME:GMT
DTSTART:20251026T010000
END:STANDARD
BEGIN:DAYLIGHT
TZOFFSETFROM:+0000
TZOFFSETTO:+0100
TZNAME:BST
DTSTART:20260329T010000
END:DAYLIGHT
BEGIN:STANDARD
TZOFFSETFROM:+0100
TZOFFSETTO:+0000
TZNAME:GMT
DTSTART:20261025T010000
END:STANDARD
BEGIN:DAYLIGHT
TZOFFSETFROM:+0000
TZOFFSETTO:+0100
TZNAME:BST
DTSTART:20270328T010000
END:DAYLIGHT
BEGIN:STANDARD
TZOFFSETFROM:+0100
TZOFFSETTO:+0000
TZNAME:GMT
DTSTART:20271031T010000
END:STANDARD
END:VTIMEZONE
BEGIN:VEVENT
DTSTART;TZID=Europe/London:20260416T110000
DTEND;TZID=Europe/London:20260416T130000
DTSTAMP:20260420T065712
CREATED:20260323T163818Z
LAST-MODIFIED:20260326T103819Z
UID:10002720-1776337200-1776344400@gotbeaf.co.uk
SUMMARY:Thursday Threads
DESCRIPTION:Thursday Threads\nSeeking Refuge workshops are on going projects that give people seeking asylum\, refugees and vulnerable migrants a space to come together and work creatively\, as well as meeting new people. Workshops can take the from of photography\, textiles and visual arts that work with locally commissioned artists.  \nCurrently\, we run free women’s workshops\, called ‘Thursday Threads’\, which meet every Thursday\, at TOSH\, the Old School House\, Boscombe. Providing a supportive space\, friendship and creative activities to enjoy over a cup of tea.  \nThursday Threads gratefully acknowledge the support from Dorset Community Foundation\, Valentine Trust\, the Alice Ellen Cooper Dean Trust and the People’s Health Trust. \nContact Caroline for more info if you or if you know someone that would like to join one of our workshops caroline.bjohnson@recreatedorset.co.uk 
URL:https://gotbeaf.co.uk/event/thursday-threads/2026-04-16/
LOCATION:The Old School House\, Gladstone Mews Gladstone Rd\, Bournemouth\, BH7 6BG\, United Kingdom
CATEGORIES:Workshops
ATTACH;FMTTYPE=image/jpeg:https://gotbeaf.co.uk/wp-content/uploads/2023/03/Thursday-Threads-workshop.-Image-©️-Heidi-Stella.jpg
GEO:50.7287077;-1.8373383
X-APPLE-STRUCTURED-LOCATION;VALUE=URI;X-ADDRESS=The Old School House Gladstone Mews Gladstone Rd Bournemouth BH7 6BG United Kingdom;X-APPLE-RADIUS=500;X-TITLE=Gladstone Mews Gladstone Rd:geo:-1.8373383,50.7287077
END:VEVENT
END:VCALENDAR