BEGIN:VCALENDAR
VERSION:2.0
PRODID:-//BEAF - ECPv6.15.17.1//NONSGML v1.0//EN
CALSCALE:GREGORIAN
METHOD:PUBLISH
X-WR-CALNAME:BEAF
X-ORIGINAL-URL:https://gotbeaf.co.uk
X-WR-CALDESC:Events for BEAF
REFRESH-INTERVAL;VALUE=DURATION:PT1H
X-Robots-Tag:noindex
X-PUBLISHED-TTL:PT1H
BEGIN:VTIMEZONE
TZID:Europe/London
BEGIN:DAYLIGHT
TZOFFSETFROM:+0000
TZOFFSETTO:+0100
TZNAME:BST
DTSTART:20200329T010000
END:DAYLIGHT
BEGIN:STANDARD
TZOFFSETFROM:+0100
TZOFFSETTO:+0000
TZNAME:GMT
DTSTART:20201025T010000
END:STANDARD
BEGIN:DAYLIGHT
TZOFFSETFROM:+0000
TZOFFSETTO:+0100
TZNAME:BST
DTSTART:20210328T010000
END:DAYLIGHT
BEGIN:STANDARD
TZOFFSETFROM:+0100
TZOFFSETTO:+0000
TZNAME:GMT
DTSTART:20211031T010000
END:STANDARD
BEGIN:DAYLIGHT
TZOFFSETFROM:+0000
TZOFFSETTO:+0100
TZNAME:BST
DTSTART:20220327T010000
END:DAYLIGHT
BEGIN:STANDARD
TZOFFSETFROM:+0100
TZOFFSETTO:+0000
TZNAME:GMT
DTSTART:20221030T010000
END:STANDARD
END:VTIMEZONE
BEGIN:VEVENT
DTSTART;TZID=Europe/London:20210626T120000
DTEND;TZID=Europe/London:20210626T180000
DTSTAMP:20260423T050952
CREATED:20210623T095529Z
LAST-MODIFIED:20210623T095529Z
UID:10000078-1624708800-1624730400@gotbeaf.co.uk
SUMMARY:JAKE WILLIAMS AT TOSH
DESCRIPTION:An illustrated travel experience celebrating planet earth and the diverse natural environments found around the globe\, consisting of 2D prints and large scale 3D elements and scenes. \nJoin us to explore 4 microcosms\, Jungle\, Desert\, Mountain and Underwater \nARTIST WEBSITE HERE \nCOVID-19 AND GOVERNMENT GUIDELINES \nWe will be following Government guidelines for all events to make sure we provide a safe and enjoyable experience for everyone.  \nKeep up to date on our website as events may have to change or be cancelled should any new restrictions come into play on the day. www.gotbeaf.co.uk \nWe will email ticket holders of any changes to events. \nKeeping you safe \nOur policy is to: \nGive you a warm welcome at a safe distance  \n\nUsing signage to help you maintain social distance \nProviding hand sanitiser for you to use \nReducing capacity if required \nAsking you to limit social interactions before\, during and after the event \nWill encourage audience members aged 11+ to wear a face covering 
URL:https://gotbeaf.co.uk/event/jake-williams-at-tosh/2021-06-26/
LOCATION:The Old School House\, Gladstone Mews Gladstone Rd\, Bournemouth\, BH7 6BG\, United Kingdom
CATEGORIES:Art
GEO:50.7287077;-1.8373383
X-APPLE-STRUCTURED-LOCATION;VALUE=URI;X-ADDRESS=The Old School House Gladstone Mews Gladstone Rd Bournemouth BH7 6BG United Kingdom;X-APPLE-RADIUS=500;X-TITLE=Gladstone Mews Gladstone Rd:geo:-1.8373383,50.7287077
END:VEVENT
BEGIN:VEVENT
DTSTART;TZID=Europe/London:20210626T120000
DTEND;TZID=Europe/London:20210626T180000
DTSTAMP:20260423T050952
CREATED:20210617T153128Z
LAST-MODIFIED:20210929T144439Z
UID:10000071-1624708800-1624730400@gotbeaf.co.uk
SUMMARY:TOSH'S CREATIVE MARKET
DESCRIPTION:Join us at TOSH for a mini market\, bringing you products made by our awesome resident local creatives as part of BEAF festival’s launch! \nBrowse and buy items made by the emerging creative business who are graduating from our Start Up Programme\, and experience our taster workshops. We’ll be hosting Sustainable Scrunchie Sewing with Studio Zipcode\, Recycled Earrings with Jazzy Eco Ears\, Kirigami Paper Fan Palms with Aimee Designs and Watercolour Blending & Calligraphy with Blink Lettering.  \nTake the opportunity to have a snoop around our coworking and community space and find out more about applying for our Start Up Programme. \nWorkshops bookable individually through Eventbrite\, at just £5.00 per person BOOK HERE \nFree entry to the market. TOSH Start Up Programme created in collaboration with Plan Make Do and Outset East Dorset. \n \n 
URL:https://gotbeaf.co.uk/event/34989/2021-06-26/
LOCATION:The Old School House\, Gladstone Mews Gladstone Rd\, Bournemouth\, BH7 6BG\, United Kingdom
CATEGORIES:Art,Workshops
ATTACH;FMTTYPE=image/png:https://gotbeaf.co.uk/wp-content/uploads/2021/06/2.png
GEO:50.7287077;-1.8373383
X-APPLE-STRUCTURED-LOCATION;VALUE=URI;X-ADDRESS=The Old School House Gladstone Mews Gladstone Rd Bournemouth BH7 6BG United Kingdom;X-APPLE-RADIUS=500;X-TITLE=Gladstone Mews Gladstone Rd:geo:-1.8373383,50.7287077
END:VEVENT
BEGIN:VEVENT
DTSTART;TZID=Europe/London:20210626T120000
DTEND;TZID=Europe/London:20210626T180000
DTSTAMP:20260423T050952
CREATED:20210608T124822Z
LAST-MODIFIED:20210902T103859Z
UID:10000047-1624708800-1624730400@gotbeaf.co.uk
SUMMARY:STREET FESTIVAL OPENING DAY : URBAN FURNITURE PERSPECTIVE
DESCRIPTION:BOSCOMBE PRECINCT \nSTREET FESTIVAL OPENING DAY : URBAN FURNITURE PERSPECTIVE\, ECO-CAB \nToo many events at BEAF and too little time to see them all? \nGrab an ECO-CAB from outside BEAF New Arts Space on Boscombe High Street and get dropped off at your chosen destination within the precinct. \nECO-CAB: the friendly cabbie with zero carbon footprint! \n 
URL:https://gotbeaf.co.uk/event/street-festival-opening-day-urban-furniture-eco-cab/2021-06-26/
LOCATION:Boscombe Precinct & Sovereign Centre\, Christchurch Rd\, Boscombe\, BH1 4SX\, United Kingdom
CATEGORIES:BEAF Commission,Family Activity
ATTACH;FMTTYPE=image/png:https://gotbeaf.co.uk/wp-content/uploads/2021/05/urban-furniture-eco-casb-street-fest-1.png
GEO:50.726734;-1.8389444
X-APPLE-STRUCTURED-LOCATION;VALUE=URI;X-ADDRESS=Boscombe Precinct & Sovereign Centre Christchurch Rd Boscombe BH1 4SX United Kingdom;X-APPLE-RADIUS=500;X-TITLE=Christchurch Rd:geo:-1.8389444,50.726734
END:VEVENT
BEGIN:VEVENT
DTSTART;TZID=Europe/London:20210626T120000
DTEND;TZID=Europe/London:20210626T180000
DTSTAMP:20260423T050952
CREATED:20210607T153236Z
LAST-MODIFIED:20210929T144759Z
UID:10000025-1624708800-1624730400@gotbeaf.co.uk
SUMMARY:BEAF TAKEOVER ROYAL ARCADE : AN APPROPRIATE RESPONSE TO REALITY
DESCRIPTION:ROYAL ARCADE : UNIT 11 \nAN APPROPRIATE RESPONSE TO REALITY \n‘An appropriate response to reality’ is an exhibition curated by Aaron Peever and Callum Stacey. The exhibition will showcase works by Alice Cunniffe\, Jack Earls\, Aaron Peever\, and Callum Stacey. This exhibition responds to this year’s BEAF theme 2B Human through artworks made in restricted spaces from over the past year. Being a creative in restricted times has pushed each artist to work in limited spaces\, only being stimulated by the small worlds that surround us.  \nOur work is a reaction to the disruption of our reality. This year’s BEAF theme gave us a focus where we want to support mental health and we would like to ask each viewer to make a small donation to our chosen charity\, Dorset Mind and we encourage viewers to bring a food bank donation\, to be collected at the space.  \nArtists \nAaron Peever \nInstagram @peevers_artwork \nWebsite \nCallum Stacey \nInstagram @callum.s.designs \nWebsite \nAlice Cunniffe \nInstagram @alice.cunniffe \nJack Earls \nInstagram @jackearls.art
URL:https://gotbeaf.co.uk/event/beaf-takeover-royal-arcade-an-appropriate-response-to-reality/2021-06-26/
LOCATION:Royal Arcade\, Boscombe Precinct\, Boscombe\, BH1 4BT\, United Kingdom
CATEGORIES:Art,BEAF Commission
ATTACH;FMTTYPE=image/png:https://gotbeaf.co.uk/wp-content/uploads/2021/05/An-appropriate-response-to-reality-callum.png
GEO:50.7264548;-1.8404701
X-APPLE-STRUCTURED-LOCATION;VALUE=URI;X-ADDRESS=Royal Arcade Boscombe Precinct Boscombe BH1 4BT United Kingdom;X-APPLE-RADIUS=500;X-TITLE=Boscombe Precinct:geo:-1.8404701,50.7264548
END:VEVENT
BEGIN:VEVENT
DTSTART;TZID=Europe/London:20210626T110000
DTEND;TZID=Europe/London:20210704T153000
DTSTAMP:20260423T050952
CREATED:20210617T140115Z
LAST-MODIFIED:20220613T094752Z
UID:10000058-1624705200-1625412600@gotbeaf.co.uk
SUMMARY:OPEN SUBMISSION: NEVILLE COOPER
DESCRIPTION:NEVILLE COOPER : VISUAL LANGUAGE IN LANGUAGE AND COLOUR \nThe Exhibition is a retrospective of Neville Cooper’s work from the last 50 years. Neville initially came across the work of Jasper Johns while studying at the West Surrey College of Art & Design in 1978 and has been inspired to create abstract paintings ever since. \nHe is known for his bold\, unapologetic and exhilarating paintings. He uses a riot of colours that explode in front of your eyes and fire the imagination.  Neville has exhibited all over the UK in leading and local exhibitions where his work gains the eyes of avid abstract fans. \n  \nCOVID-19 AND GOVERNMENT GUIDELINES \nWe will be following Government guidelines for all events to make sure we provide a safe and enjoyable experience for everyone. \nKeep up to date on our website as events may have to change or be cancelled should any new restrictions come into play on the day. \nWe will email ticket holders of any changes to events. \nKeeping you safe \nOur policy is to: \n\nGive you a warm welcome at a safe distance\nUse signage to help you maintain social distance\nProvide hand sanitiser for you to use\nReduce capacity if required\nAsk you to limit social interactions before\, during and after the event\nEncourage audience members aged 11+ to wear a face covering
URL:https://gotbeaf.co.uk/event/open-submission-neville-cooper/
LOCATION:Factory Studios\, 107A Haviland Road\, Boscombe\, Dorset\, BH7 6HJ\, United Kingdom
CATEGORIES:Art,BEAF 2021,Open Submissions
ATTACH;FMTTYPE=image/png:https://gotbeaf.co.uk/wp-content/uploads/2021/06/Neville-2.png
GEO:50.7285903;-1.8362912
X-APPLE-STRUCTURED-LOCATION;VALUE=URI;X-ADDRESS=Factory Studios 107A Haviland Road Boscombe Dorset BH7 6HJ United Kingdom;X-APPLE-RADIUS=500;X-TITLE=107A Haviland Road:geo:-1.8362912,50.7285903
END:VEVENT
BEGIN:VEVENT
DTSTART;TZID=Europe/London:20210626T100000
DTEND;TZID=Europe/London:20210626T160000
DTSTAMP:20260423T050952
CREATED:20210618T155031Z
LAST-MODIFIED:20210618T155031Z
UID:10000074-1624701600-1624723200@gotbeaf.co.uk
SUMMARY:OPEN SUBMISSION : The DNA of Storytelling
DESCRIPTION:Interactive storytelling pop-up\, creating a story written by visitors; they grow the fairy tale by adding a paragraph\, and the tree by decorating with paper-cut leaves. 3D-story starts from seed and grows into fully-fledged tree. Including paper-cut workshops and story-generator to nurture ideas. \nOrganised by Rebecca Hougham and Mel Bennett \nCreativate Bespoke Art Tuition \nLocation: Craft and More\, Royal Arcade \n  \nCOVID-19 AND GOVERNMENT GUIDELINES \nWe will be following Government guidelines for all events to make sure we provide a safe and enjoyable experience for everyone. \nKeep up to date on our website as events may have to change or be cancelled should any new restrictions come into play on the day. \nWe will email ticket holders of any changes to events. \nKeeping you safe \nOur policy is to: \n\nGive you a warm welcome at a safe distance\nUse signage to help you maintain social distance\nProvide hand sanitiser for you to use\nReduce capacity if required\nAsk you to limit social interactions before\, during and after the event\nEncourage audience members aged 11+ to wear a face covering
URL:https://gotbeaf.co.uk/event/open-submission-the-dna-of-storytelling/2021-06-26/
LOCATION:Royal Arcade\, Boscombe Precinct\, Boscombe\, BH1 4BT\, United Kingdom
CATEGORIES:Art,Open Submissions
ATTACH;FMTTYPE=image/png:https://gotbeaf.co.uk/wp-content/uploads/2021/06/rebecca.png
GEO:50.7264548;-1.8404701
X-APPLE-STRUCTURED-LOCATION;VALUE=URI;X-ADDRESS=Royal Arcade Boscombe Precinct Boscombe BH1 4BT United Kingdom;X-APPLE-RADIUS=500;X-TITLE=Boscombe Precinct:geo:-1.8404701,50.7264548
END:VEVENT
BEGIN:VEVENT
DTSTART;TZID=Europe/London:20210626T100000
DTEND;TZID=Europe/London:20210626T160000
DTSTAMP:20260423T050952
CREATED:20210617T134027Z
LAST-MODIFIED:20220613T094656Z
UID:10000052-1624701600-1624723200@gotbeaf.co.uk
SUMMARY:COMMISSIONED ARTIST: IMOGEN CHARLESTON
DESCRIPTION:IMOGEN CHARLESTON : HAND AND EARTH \nHand and Earth at the Red House Museum and Gardens \nThe connection people have with the land through making objects from clay dates back over 20\,000 years. Imogen shares the story of our local geology with an exhibition of vessels made from local wild clay. Inspired by Guy Sydenham\, who worked at Poole Pottery and lived on Long Island. \n  \nCOVID-19 AND GOVERNMENT GUIDELINES \nWe will be following Government guidelines for all events to make sure we provide a safe and enjoyable experience for everyone. \nKeep up to date on our website as events may have to change or be cancelled should any new restrictions come into play on the day. \nWe will email ticket holders of any changes to events. \nKeeping you safe \nOur policy is to: \n\nGive you a warm welcome at a safe distance\nUse signage to help you maintain social distance\nProvide hand sanitiser for you to use\nReduce capacity if required\nAsk you to limit social interactions before\, during and after the event\nEncourage audience members aged 11+ to wear a face covering
URL:https://gotbeaf.co.uk/event/imogen-charleston/2021-06-26/
LOCATION:Red House Museum and Gardens\, Quay Road Christchurch\, Dorset\, BH23 1BU\, United Kingdom
CATEGORIES:Art,BEAF 2021,BEAF Commission
ATTACH;FMTTYPE=image/png:https://gotbeaf.co.uk/wp-content/uploads/2021/06/imogen-2.png
GEO:50.7317764;-1.7754967
X-APPLE-STRUCTURED-LOCATION;VALUE=URI;X-ADDRESS=Red House Museum and Gardens Quay Road Christchurch Dorset BH23 1BU United Kingdom;X-APPLE-RADIUS=500;X-TITLE=Quay Road Christchurch:geo:-1.7754967,50.7317764
END:VEVENT
BEGIN:VEVENT
DTSTART;VALUE=DATE:20210626
DTEND;VALUE=DATE:20210705
DTSTAMP:20260423T050952
CREATED:20210617T145830Z
LAST-MODIFIED:20220613T095004Z
UID:10000070-1624665600-1625443199@gotbeaf.co.uk
SUMMARY:2B HUMAN EXHIBITION : WOMEN OF WORDS - Exhibition and Online Film Performance
DESCRIPTION:What narratives are told when women are the storytellers? \nIn this pre-recorded online performance and accompanying exhibition\, Valise Noire Storytelling Theatre will share new writing created by local women who have experienced male violence against women. These Women of Words speak  to female narratives from Dorset’s past and present.   \nThe group’s evocative writing amplifies unique voices\, such as Bournemouth’s Lady Annie Russell-Cotes\, a well-travelled philanthropist\, to the silenced voices of patients at the local asylum\, Herrison Hospital. The project explores sound and  silence\, privilege\, pain and pleasure across time\, creating new narratives that  women want to tell.   \nThe film is available to watch below (16+) and the public exhibition will be on display in the windows of Boscombe Library\, both during the course of the festival. The exhibition has been created in collaboration with local illustrator Corrianna Clarke.   \nValise Noire Storytelling Theatre is Michele O’Brien and Alice Flynn. ‘Women of Words\, Dorset’ has been made possible by the National Lottery  Heritage Fund\, funded by National Lottery players. It has been created in partnership with BEAF\, charitable housing association BCHA\, the Dorset History Centre and The Russell-Cotes Museum.  \n [Photo Credit: Richard Budd (c) 2021] \n \nRelated Event \nChurchill Gardens Family Friendly Performance – Sunday 4th July @2-4pm \n \nCOVID-19 AND GOVERNMENT GUIDELINES \nWe will be following Government guidelines for all events to make sure we provide a safe and enjoyable experience for everyone.  \nKeep up to date on our website as events may have to change or be cancelled should any new restrictions come into play on the day.  \nWe will email ticket holders of any changes to events. \nKeeping you safe \nOur policy is to: \n\nGive you a warm welcome at a safe distance \nUse signage to help you maintain social distance \nProvide hand sanitiser for you to use \nReduce capacity if required \nAsk you to limit social interactions before\, during and after the event \nEncourage audience members aged 11+ to wear a face covering
URL:https://gotbeaf.co.uk/event/2b-human-exhibition-women-of-words-dorset-zoom-informal-performance-with-q-a-session/
LOCATION:Boscombe Library\, 32 Hawkwood Rd\, Bournemouth\, BH5 1BY\, United Kingdom
CATEGORIES:BEAF 2021,BEAF Commission,Film,Live Performance,Talk
GEO:50.7267678;-1.8365283
X-APPLE-STRUCTURED-LOCATION;VALUE=URI;X-ADDRESS=Boscombe Library 32 Hawkwood Rd Bournemouth BH5 1BY United Kingdom;X-APPLE-RADIUS=500;X-TITLE=32 Hawkwood Rd:geo:-1.8365283,50.7267678
END:VEVENT
BEGIN:VEVENT
DTSTART;TZID=Europe/London:20210625T180000
DTEND;TZID=Europe/London:20210625T200000
DTSTAMP:20260423T050952
CREATED:20210618T164907Z
LAST-MODIFIED:20210929T150431Z
UID:10000076-1624644000-1624651200@gotbeaf.co.uk
SUMMARY:OPEN SUBMISSION : VITA NOVA QUILT MAKERS - AN EXHIBITION BY VITA NOVA
DESCRIPTION:[Photo Credit: Sharon Coyne] \n  \nAn exhibition of a quilt created in response to the pandemic. \nVita Nova is a community theatre and arts group for people in recovery from drug and alcohol addiction.We are pleased to present four new pieces of work reflecting on recovery and transformation\, lockdown\, and the current situations facing humanity. \nSuggested donation: £4.   Suitable for all ages. \n  \nRelated Events  \n‘Datta’ – Friday 25th June @ 6-8PM. \n‘Fourth Wall Gallery: 3 Exhibitions’ – Friday 25th June @ 6-8PM & Saturday 26th @ 1-6PM. \n‘Gallery View’ – Wednesday 30th June @ 2-3.30PM & 6.30PM. Thursday July 1st @ 6.30PM. \n  \nCheck out their socials! \nFACEBOOK \nTWITTER \nINSTAGRAM
URL:https://gotbeaf.co.uk/event/open-submission-vita-nova-quilt-makers-an-exhibition-by-vita-nova/2021-06-25/
LOCATION:Vita Nova\, 11 Romelia Lane\, Boscombe\, BH5 1EU\, United Kingdom
CATEGORIES:Art,Open Submissions
ATTACH;FMTTYPE=image/png:https://gotbeaf.co.uk/wp-content/uploads/2021/06/vita-nova-2-2.png
GEO:50.7253029;-1.8426278
X-APPLE-STRUCTURED-LOCATION;VALUE=URI;X-ADDRESS=Vita Nova 11 Romelia Lane Boscombe BH5 1EU United Kingdom;X-APPLE-RADIUS=500;X-TITLE=11 Romelia Lane:geo:-1.8426278,50.7253029
END:VEVENT
BEGIN:VEVENT
DTSTART;TZID=Europe/London:20210625T180000
DTEND;TZID=Europe/London:20210625T200000
DTSTAMP:20260423T050952
CREATED:20210617T143352Z
LAST-MODIFIED:20220613T103323Z
UID:10000068-1624644000-1624651200@gotbeaf.co.uk
SUMMARY:OPEN SUBMISSION : FOURTH WALL GALLERY - 3 EXHIBITIONS
DESCRIPTION:[Photo Credit: Mark David Lloyd] \n  \nAn exhibition of new work at Vita Nova’s Fourth Wall Gallery\, created by our members around the theme of ‘Reawakening’\, with British contemporary artist Mark David Lloyd. \nVita Nova is a community theatre and arts group for people in recovery from drug and alcohol addiction.We are pleased to present four new pieces of work reflecting on recovery and transformation\, lockdown\, and the current situations facing humanity. \nSuggested donation: £4.   Suitable for all ages. \nBOOK HERE! \n  \nRelated Events  \n‘Datta’ – Friday 25th June @ 6-8PM. \n‘Vita Nova Quilt Makers’ – Friday 25th June @ 6.30PM. Saturday 26th to Sunday 27th June @ 10AM-6PM. \n‘Gallery View’ – Wednesday 30th June @ 2-3.30PM & 6.30PM. Thursday July 1st @ 6.30PM. \n  \nCheck out their socials! \nFACEBOOK \nTWITTER \nINSTAGRAM
URL:https://gotbeaf.co.uk/event/open-submission-reawakening-an-exhibition-by-vita-nova/2021-06-25/
LOCATION:Vita Nova\, 11 Romelia Lane\, Boscombe\, BH5 1EU\, United Kingdom
CATEGORIES:Art,BEAF 2021,Open Submissions
GEO:50.7253029;-1.8426278
X-APPLE-STRUCTURED-LOCATION;VALUE=URI;X-ADDRESS=Vita Nova 11 Romelia Lane Boscombe BH5 1EU United Kingdom;X-APPLE-RADIUS=500;X-TITLE=11 Romelia Lane:geo:-1.8426278,50.7253029
END:VEVENT
BEGIN:VEVENT
DTSTART;TZID=Europe/London:20210625T180000
DTEND;TZID=Europe/London:20210625T200000
DTSTAMP:20260423T050952
CREATED:20210608T124822Z
LAST-MODIFIED:20210902T103859Z
UID:10000046-1624644000-1624651200@gotbeaf.co.uk
SUMMARY:STREET FESTIVAL OPENING DAY : URBAN FURNITURE PERSPECTIVE
DESCRIPTION:BOSCOMBE PRECINCT \nSTREET FESTIVAL OPENING DAY : URBAN FURNITURE PERSPECTIVE\, ECO-CAB \nToo many events at BEAF and too little time to see them all? \nGrab an ECO-CAB from outside BEAF New Arts Space on Boscombe High Street and get dropped off at your chosen destination within the precinct. \nECO-CAB: the friendly cabbie with zero carbon footprint! \n 
URL:https://gotbeaf.co.uk/event/street-festival-opening-day-urban-furniture-eco-cab/2021-06-25/
LOCATION:Boscombe Precinct & Sovereign Centre\, Christchurch Rd\, Boscombe\, BH1 4SX\, United Kingdom
CATEGORIES:BEAF Commission,Family Activity
ATTACH;FMTTYPE=image/png:https://gotbeaf.co.uk/wp-content/uploads/2021/05/urban-furniture-eco-casb-street-fest-1.png
GEO:50.726734;-1.8389444
X-APPLE-STRUCTURED-LOCATION;VALUE=URI;X-ADDRESS=Boscombe Precinct & Sovereign Centre Christchurch Rd Boscombe BH1 4SX United Kingdom;X-APPLE-RADIUS=500;X-TITLE=Christchurch Rd:geo:-1.8389444,50.726734
END:VEVENT
END:VCALENDAR