BEGIN:VCALENDAR
VERSION:2.0
PRODID:-//BEAF - ECPv6.15.17.1//NONSGML v1.0//EN
CALSCALE:GREGORIAN
METHOD:PUBLISH
X-WR-CALNAME:BEAF
X-ORIGINAL-URL:https://gotbeaf.co.uk
X-WR-CALDESC:Events for BEAF
REFRESH-INTERVAL;VALUE=DURATION:PT1H
X-Robots-Tag:noindex
X-PUBLISHED-TTL:PT1H
BEGIN:VTIMEZONE
TZID:Europe/London
BEGIN:DAYLIGHT
TZOFFSETFROM:+0000
TZOFFSETTO:+0100
TZNAME:BST
DTSTART:20250330T010000
END:DAYLIGHT
BEGIN:STANDARD
TZOFFSETFROM:+0100
TZOFFSETTO:+0000
TZNAME:GMT
DTSTART:20251026T010000
END:STANDARD
BEGIN:DAYLIGHT
TZOFFSETFROM:+0000
TZOFFSETTO:+0100
TZNAME:BST
DTSTART:20260329T010000
END:DAYLIGHT
BEGIN:STANDARD
TZOFFSETFROM:+0100
TZOFFSETTO:+0000
TZNAME:GMT
DTSTART:20261025T010000
END:STANDARD
BEGIN:DAYLIGHT
TZOFFSETFROM:+0000
TZOFFSETTO:+0100
TZNAME:BST
DTSTART:20270328T010000
END:DAYLIGHT
BEGIN:STANDARD
TZOFFSETFROM:+0100
TZOFFSETTO:+0000
TZNAME:GMT
DTSTART:20271031T010000
END:STANDARD
END:VTIMEZONE
BEGIN:VEVENT
DTSTART;TZID=Europe/London:20260320T110000
DTEND;TZID=Europe/London:20260404T170000
DTSTAMP:20260422T124759
CREATED:20260323T160430Z
LAST-MODIFIED:20260324T173034Z
UID:10000545-1774004400-1775322000@gotbeaf.co.uk
SUMMARY:Boscombe Beyond Your Eyes
DESCRIPTION:Boscombe Beyond Your Eyes by Adilson Naueji\n“Boscombe: Beyond Your Eyes’ is more than an art exhibition; it is a dedicated light shone upon the hidden corners and resilient spirits of our community. This collection comprising paintings\, drawings\, and raw sketches is\, a direct\, visceral response to the powerful human narratives that unfold daily along our pavements. Through the layered richness of oil and acrylic\, and the tactile honesty of pastels and charcoal\, I seek to translate the unspoken energy of Boscombe into a visual language that everyone can speak.” Adilson Naueji \nAdilson Naueji \nAdilson Naueji is a self-taught Angolan painter based in Bournemouth\, England\, celebrated for his powerful\, socially relevant art. Drawing from his Ovimbundu and Tchokwé African heritage\, he is passionate about documenting and sharing histories\, often incorporating research into African rituals\, masks\, and traditions to engage and empower the Black community. \nNaueji’s unique style employs a realist approach focusing on human features to explore the relationship between individuals and their environment. Through acrylic and oil paintings\, he documents daily urban life and amplifies genuine narratives\, making him a valuable cultural contributor. \nDespite being an emerging artist\, his talent has quickly gained recognition. Highlights include his first solo exhibition\, BH5 Boscombe Beyond Your Eyes\, addressing marginalisation and resilience; co-founding the Boscombe Radicle Artist Collective (BRAC); participation in the BEAF Art Festival 2023; and winning the first Lighthouse Poole Open Call 2024. \noutsidein.org.uk/galleries/adilson-naueji@adilson_naueji \n  \n20 March – 4 April 2026\, open Thursdays\, Fridays and Saturdays \n11am – 5pm | B.A.D. Gallery \nFREE\, OPEN TO ALL
URL:https://gotbeaf.co.uk/event/boscombe-beyond-your-eyes/
LOCATION:B.A.D. Boscombe Arts Depot\, 616-622 Christchurch Road\, Boscombe\, Dorset\, BH1 4SX\, United Kingdom
CATEGORIES:Exhibition
ATTACH;FMTTYPE=image/jpeg:https://gotbeaf.co.uk/wp-content/uploads/2026/03/Glaze-memory-Adilson-Naueji--scaled.jpg
END:VEVENT
END:VCALENDAR