BEGIN:VCALENDAR
VERSION:2.0
PRODID:-//BEAF - ECPv6.15.17.1//NONSGML v1.0//EN
CALSCALE:GREGORIAN
METHOD:PUBLISH
X-ORIGINAL-URL:https://gotbeaf.co.uk
X-WR-CALDESC:Events for BEAF
REFRESH-INTERVAL;VALUE=DURATION:PT1H
X-Robots-Tag:noindex
X-PUBLISHED-TTL:PT1H
BEGIN:VTIMEZONE
TZID:Europe/London
BEGIN:DAYLIGHT
TZOFFSETFROM:+0000
TZOFFSETTO:+0100
TZNAME:BST
DTSTART:20250330T010000
END:DAYLIGHT
BEGIN:STANDARD
TZOFFSETFROM:+0100
TZOFFSETTO:+0000
TZNAME:GMT
DTSTART:20251026T010000
END:STANDARD
BEGIN:DAYLIGHT
TZOFFSETFROM:+0000
TZOFFSETTO:+0100
TZNAME:BST
DTSTART:20260329T010000
END:DAYLIGHT
BEGIN:STANDARD
TZOFFSETFROM:+0100
TZOFFSETTO:+0000
TZNAME:GMT
DTSTART:20261025T010000
END:STANDARD
BEGIN:DAYLIGHT
TZOFFSETFROM:+0000
TZOFFSETTO:+0100
TZNAME:BST
DTSTART:20270328T010000
END:DAYLIGHT
BEGIN:STANDARD
TZOFFSETFROM:+0100
TZOFFSETTO:+0000
TZNAME:GMT
DTSTART:20271031T010000
END:STANDARD
END:VTIMEZONE
BEGIN:VEVENT
DTSTART;TZID=Europe/London:20260408T180000
DTEND;TZID=Europe/London:20260408T200000
DTSTAMP:20260420T070329
CREATED:20260318T111147Z
LAST-MODIFIED:20260324T193532Z
UID:10002107-1775671200-1775678400@gotbeaf.co.uk
SUMMARY:Selling Art Today
DESCRIPTION:OSC: Selling Art Today – Galleries\, Clients\, and Digital Platforms\nJoin Jackie Sarafopoulos\, Freelance Art Consultant\, Founder of Jackie Sarafopoulos\, and Owner/Director of Modern Contemporary Art – a gallery developed to buy and sell artwork – for an insightful talk at TOSH to explore different ways of selling your artwork. \nThroughout the talk Jackie will share her industry knowledge and experience of the current art market\, and what to expect from it as an artist. The talk will focus on working with different galleries and clients\, as well as sharing useful platforms to showcase and sell your work. This talk is open to visual artists at any stage of their career\, with a particular interest in selling your artwork or a curiosity to do so. There will be time for questions and discussions towards the end of the session. \nAbout Jackie Sarafopoulos\n \nJackie Sarafopoulos is a Freelance Art Consultant and Founder of Jackie Sarafopoulos\, and Owner/Director of Modern Contemporary Art Gallery. With more than 30 years’ experience across the visual arts sector\, she has worked extensively in curation\, exhibitions\, collections management\, and cultural strategy. Her specialist expertise includes working with trusts and foundations\, arts education\, curatorial practice\, interpretation\, and promotion. She brings significant project and operations management experience\, collaborating with charitable\, educational\, voluntary\, community\, commercial\, and cultural organisations. Jackie is passionate about developing innovative\, audience-focused projects in partnership with cultural organisations. Her remit includes securing funding from government bodies\, private donors\, community groups\, and charitable funders to deliver collaborative\, multi-disciplinary and site-specific commissions with local\, national\, and international artists. These projects are designed to engage new audiences and encourage meaningful participation. She represents artists and artists’ estates\, develops strategic approaches for community stakeholders\, and regularly mentors artists while supporting undergraduate and postgraduate programmes. Jackie maintains strong links across both the commercial art market and the not-for-profit sector. She currently serves on the Collections and Exhibitions Advisory Committee at Pallant House Gallery. \nAbout Modern Contemporary Art Gallery \nModern Contemporary Art is a UK-based online gallery and art advisory founded in 2021 by Jackie Sarafopoulos. The platform is dedicated to the sourcing\, presentation\, and sale of modern and contemporary artworks\, with a particular emphasis on works on paper. Its carefully curated collection spans a diverse range of media\, including lithographs\, screenprints\, etchings\, linocuts\, monoprints\, and woodcuts\, alongside drawings\, watercolours\, and a select group of original paintings and sculpture. The gallery works closely with artist estates\, established galleries\, collectors\, and charitable trusts\, fostering relationships built on transparency\, ethical practice\, and rigorous scholarship. By bridging historical and contemporary practices\, Modern Contemporary Art showcases works by a wide range of artists — from 19th- and 20th-century masters to significant figures in post-war and modern British art. Beyond sales\, the gallery offers personalised advisory services to private collectors\, institutions\, and corporate clients. These include collection management\, acquisition strategy\, provenance research\, and guidance on authentication\, conservation\, and framing. It also supports new collectors\, providing advice on building cohesive and meaningful collections over time. While primarily operating online\, the gallery maintains an active presence at public exhibitions\, art fairs\, and print-focused events across the UK\, including the Hepworth Wakefield Print Fair. Through this hybrid model\, Modern Contemporary Art aims to make high-quality\, collectible works more accessible to a wider audience\, combining traditional connoisseurship with a modern\, digital-first approach. \nTicketed events at BEAF \nAll profits from our ticket sales go back into supporting our work with artists and community groups. A limited number of community tickets are available at every event for those with low income\, outsider artists\, asylum seekers\, refugees and vulnerable migrants. Please email us at hello@gotbeaf.co.uk if you would like a free ticket.
URL:https://gotbeaf.co.uk/event/selling-art-today/
LOCATION:The Old School House\, Gladstone Mews Gladstone Rd\, Bournemouth\, BH7 6BG\, United Kingdom
CATEGORIES:Talk
ATTACH;FMTTYPE=image/jpeg:https://gotbeaf.co.uk/wp-content/uploads/2026/03/Jackie-Sarafopoulos.jpg
GEO:50.7287077;-1.8373383
X-APPLE-STRUCTURED-LOCATION;VALUE=URI;X-ADDRESS=The Old School House Gladstone Mews Gladstone Rd Bournemouth BH7 6BG United Kingdom;X-APPLE-RADIUS=500;X-TITLE=Gladstone Mews Gladstone Rd:geo:-1.8373383,50.7287077
END:VEVENT
END:VCALENDAR