BEGIN:VCALENDAR
VERSION:2.0
PRODID:-//BEAF - ECPv6.15.17.1//NONSGML v1.0//EN
CALSCALE:GREGORIAN
METHOD:PUBLISH
X-ORIGINAL-URL:https://gotbeaf.co.uk
X-WR-CALDESC:Events for BEAF
REFRESH-INTERVAL;VALUE=DURATION:PT1H
X-Robots-Tag:noindex
X-PUBLISHED-TTL:PT1H
BEGIN:VTIMEZONE
TZID:Europe/London
BEGIN:DAYLIGHT
TZOFFSETFROM:+0000
TZOFFSETTO:+0100
TZNAME:BST
DTSTART:20220327T010000
END:DAYLIGHT
BEGIN:STANDARD
TZOFFSETFROM:+0100
TZOFFSETTO:+0000
TZNAME:GMT
DTSTART:20221030T010000
END:STANDARD
BEGIN:DAYLIGHT
TZOFFSETFROM:+0000
TZOFFSETTO:+0100
TZNAME:BST
DTSTART:20230326T010000
END:DAYLIGHT
BEGIN:STANDARD
TZOFFSETFROM:+0100
TZOFFSETTO:+0000
TZNAME:GMT
DTSTART:20231029T010000
END:STANDARD
BEGIN:DAYLIGHT
TZOFFSETFROM:+0000
TZOFFSETTO:+0100
TZNAME:BST
DTSTART:20240331T010000
END:DAYLIGHT
BEGIN:STANDARD
TZOFFSETFROM:+0100
TZOFFSETTO:+0000
TZNAME:GMT
DTSTART:20241027T010000
END:STANDARD
END:VTIMEZONE
BEGIN:VEVENT
DTSTART;TZID=Europe/London:20230623T190000
DTEND;TZID=Europe/London:20230624T200000
DTSTAMP:20260419T192955
CREATED:20230305T140626Z
LAST-MODIFIED:20230623T070948Z
UID:10000488-1687546800-1687636800@gotbeaf.co.uk
SUMMARY:Stateless
DESCRIPTION:Joli Vyann\n \nBEAF has commissioned Boscombe-based\, dance company Joli Vyann\, who will be performing their awe-inspiring fusion of dance circus with participants from our Seeking Refuge Project. Combining voices from the refugees with the experimental sounds from Japanese composer\, Nao Masuda\, playing live on the Taiko drums with Iranian musician Babak Barbod.  \nBased on their original work Stateless\, Joli Vyann fuses the energy of hand to hand acrobatics and Cyr wheel with graceful contemporary dance to create a captivating style of physical performance. Stateless explores the topical subject of immigration\, humanity and tolerance\, taking audiences on an emotional journey into the lives and fate of people forced to leave their country of birth. \nThe soundtrack to Stateless includes spoken word excerpts of real-life interviews with refugees\, which Joli Vyann have met and talked to about their experiences of displacement\, and being torn away from their homes by political circumstances. \nJoli Vyann\, Stateless. Image ©️ Gigi Giannella \nStateless is a BEAF 2023 Commission \nBased on the original performance produced by Turtle Key Arts for Activate and the PASS Circus Channel Project. Part of the European cross-border cooperation programme Interreg IVA (Channel – France England) co-financed by the ERDF. \nCo-Directors & Choreographers: Olivia Quayle & Jan Patzke. Performers: Olivia Quayle\, Jan Patzke\, Michael Kelland and Jennifer Wilson. Composer: Nao Masuda. Set Design & Creation: Hannah Coombe & Natalia Maslanka (Arts University Bournemouth) \nContent warning: Sensitive and distressing content \nPlease note that this performance has flashing and strobe lighting\, loud noises and sensitive content including stories about migration and displacement.  \nThe foodbank is accessible and has a lift.  \nFri 23 & Sat 24 June\, 7pm-8pm \nTickets: Pay what you can £12/£20. Solidarity ticket £25 and free tickets available. \nThe whole ticket price goes as a donation to the Bournemouth Foodbank\, the more you give the more we raise for their amazing work. Eventbrite’s fee is excluded in the donation. \nTICKETS
URL:https://gotbeaf.co.uk/event/stateless/
LOCATION:Bournemouth Foodbank\, 118 Haviland Road\, Boscombe\, England\, BH7 6HW\, United Kingdom
CATEGORIES:BEAF 2023,BEAF Commission,dance,Live Performance,Music
ATTACH;FMTTYPE=image/jpeg:https://gotbeaf.co.uk/wp-content/uploads/2023/03/Joli-Vyann©️-Gigi-Giannella.-Banner-image-scaled.jpg
END:VEVENT
END:VCALENDAR